BEGIN:VCALENDAR
VERSION:2.0
PRODID:-// - ECPv6.15.17.1//NONSGML v1.0//EN
CALSCALE:GREGORIAN
METHOD:PUBLISH
X-ORIGINAL-URL:https://waverlyfreelibrary.org
X-WR-CALDESC:Events for 
REFRESH-INTERVAL;VALUE=DURATION:PT1H
X-Robots-Tag:noindex
X-PUBLISHED-TTL:PT1H
BEGIN:VTIMEZONE
TZID:America/New_York
BEGIN:DAYLIGHT
TZOFFSETFROM:-0500
TZOFFSETTO:-0400
TZNAME:EDT
DTSTART:20220313T070000
END:DAYLIGHT
BEGIN:STANDARD
TZOFFSETFROM:-0400
TZOFFSETTO:-0500
TZNAME:EST
DTSTART:20221106T060000
END:STANDARD
BEGIN:DAYLIGHT
TZOFFSETFROM:-0500
TZOFFSETTO:-0400
TZNAME:EDT
DTSTART:20230312T070000
END:DAYLIGHT
BEGIN:STANDARD
TZOFFSETFROM:-0400
TZOFFSETTO:-0500
TZNAME:EST
DTSTART:20231105T060000
END:STANDARD
BEGIN:DAYLIGHT
TZOFFSETFROM:-0500
TZOFFSETTO:-0400
TZNAME:EDT
DTSTART:20240310T070000
END:DAYLIGHT
BEGIN:STANDARD
TZOFFSETFROM:-0400
TZOFFSETTO:-0500
TZNAME:EST
DTSTART:20241103T060000
END:STANDARD
END:VTIMEZONE
BEGIN:VEVENT
DTSTART;TZID=America/New_York:20231207T103000
DTEND;TZID=America/New_York:20231207T111500
DTSTAMP:20260423T023449
CREATED:20231115T154838Z
LAST-MODIFIED:20231121T183715Z
UID:1545-1701945000-1701947700@waverlyfreelibrary.org
SUMMARY:Toddler Time "Dragons"
DESCRIPTION:This week the toddlers will be enjoying stories all about dragons!
URL:https://waverlyfreelibrary.org/event/toddler-time-35/
LOCATION:NY
END:VEVENT
BEGIN:VEVENT
DTSTART;TZID=America/New_York:20231207T111500
DTEND;TZID=America/New_York:20231207T120000
DTSTAMP:20260423T023449
CREATED:20231115T154908Z
LAST-MODIFIED:20231121T183639Z
UID:1547-1701947700-1701950400@waverlyfreelibrary.org
SUMMARY:Story Time "Dragons"
DESCRIPTION:It’s all about dragons at story time this week!
URL:https://waverlyfreelibrary.org/event/story-time-35/
LOCATION:NY
END:VEVENT
END:VCALENDAR