BEGIN:VCALENDAR
VERSION:2.0
PRODID:-// - ECPv6.15.17.1//NONSGML v1.0//EN
CALSCALE:GREGORIAN
METHOD:PUBLISH
X-ORIGINAL-URL:https://waverlyfreelibrary.org
X-WR-CALDESC:Events for 
REFRESH-INTERVAL;VALUE=DURATION:PT1H
X-Robots-Tag:noindex
X-PUBLISHED-TTL:PT1H
BEGIN:VTIMEZONE
TZID:America/New_York
BEGIN:DAYLIGHT
TZOFFSETFROM:-0500
TZOFFSETTO:-0400
TZNAME:EDT
DTSTART:20220313T070000
END:DAYLIGHT
BEGIN:STANDARD
TZOFFSETFROM:-0400
TZOFFSETTO:-0500
TZNAME:EST
DTSTART:20221106T060000
END:STANDARD
BEGIN:DAYLIGHT
TZOFFSETFROM:-0500
TZOFFSETTO:-0400
TZNAME:EDT
DTSTART:20230312T070000
END:DAYLIGHT
BEGIN:STANDARD
TZOFFSETFROM:-0400
TZOFFSETTO:-0500
TZNAME:EST
DTSTART:20231105T060000
END:STANDARD
BEGIN:DAYLIGHT
TZOFFSETFROM:-0500
TZOFFSETTO:-0400
TZNAME:EDT
DTSTART:20240310T070000
END:DAYLIGHT
BEGIN:STANDARD
TZOFFSETFROM:-0400
TZOFFSETTO:-0500
TZNAME:EST
DTSTART:20241103T060000
END:STANDARD
END:VTIMEZONE
BEGIN:VEVENT
DTSTART;TZID=America/New_York:20231221T103000
DTEND;TZID=America/New_York:20231221T111500
DTSTAMP:20260424T183657
CREATED:20231115T155120Z
LAST-MODIFIED:20231121T183305Z
UID:1553-1703154600-1703157300@waverlyfreelibrary.org
SUMMARY:Toddler Time "Happy Holidays"
DESCRIPTION:Join our popular Toddler Time to read about holidays celebrated this time of year!
URL:https://waverlyfreelibrary.org/event/toddler-time-37/
LOCATION:NY
END:VEVENT
BEGIN:VEVENT
DTSTART;TZID=America/New_York:20231221T111500
DTEND;TZID=America/New_York:20231221T120000
DTSTAMP:20260424T183657
CREATED:20231115T155145Z
LAST-MODIFIED:20231121T182841Z
UID:1555-1703157300-1703160000@waverlyfreelibrary.org
SUMMARY:Story Time "Celebrating Holidays"
DESCRIPTION:Join us for our all ages story time as we read about holidays celebrated this time of year!
URL:https://waverlyfreelibrary.org/event/story-time-37/
LOCATION:NY
END:VEVENT
END:VCALENDAR