BEGIN:VCALENDAR
VERSION:2.0
PRODID:-// - ECPv6.15.17.1//NONSGML v1.0//EN
CALSCALE:GREGORIAN
METHOD:PUBLISH
X-ORIGINAL-URL:https://waverlyfreelibrary.org
X-WR-CALDESC:Events for 
REFRESH-INTERVAL;VALUE=DURATION:PT1H
X-Robots-Tag:noindex
X-PUBLISHED-TTL:PT1H
BEGIN:VTIMEZONE
TZID:America/New_York
BEGIN:DAYLIGHT
TZOFFSETFROM:-0500
TZOFFSETTO:-0400
TZNAME:EDT
DTSTART:20230312T070000
END:DAYLIGHT
BEGIN:STANDARD
TZOFFSETFROM:-0400
TZOFFSETTO:-0500
TZNAME:EST
DTSTART:20231105T060000
END:STANDARD
BEGIN:DAYLIGHT
TZOFFSETFROM:-0500
TZOFFSETTO:-0400
TZNAME:EDT
DTSTART:20240310T070000
END:DAYLIGHT
BEGIN:STANDARD
TZOFFSETFROM:-0400
TZOFFSETTO:-0500
TZNAME:EST
DTSTART:20241103T060000
END:STANDARD
BEGIN:DAYLIGHT
TZOFFSETFROM:-0500
TZOFFSETTO:-0400
TZNAME:EDT
DTSTART:20250309T070000
END:DAYLIGHT
BEGIN:STANDARD
TZOFFSETFROM:-0400
TZOFFSETTO:-0500
TZNAME:EST
DTSTART:20251102T060000
END:STANDARD
END:VTIMEZONE
BEGIN:VEVENT
DTSTART;TZID=America/New_York:20240419T113000
DTEND;TZID=America/New_York:20240419T113000
DTSTAMP:20260421T195656
CREATED:20240321T190406Z
LAST-MODIFIED:20240321T190406Z
UID:1900-1713526200-1713526200@waverlyfreelibrary.org
SUMMARY:Pre-K Art Class: Color Shifting Butterflies
DESCRIPTION:Join Mx. Jae for another fun-filled and educational art class geared towards preschoolers. This class will focus on fine motor skills using washable markers and sensory play with water. Registration is required. To register\, email Jae at jgorski@waverlyfreelibrary.org or call 607-565-9341.
URL:https://waverlyfreelibrary.org/event/pre-k-art-class-color-shifting-butterflies-2/
LOCATION:NY
END:VEVENT
END:VCALENDAR