BEGIN:VCALENDAR
VERSION:2.0
PRODID:-// - ECPv6.15.17.1//NONSGML v1.0//EN
CALSCALE:GREGORIAN
METHOD:PUBLISH
X-ORIGINAL-URL:https://waverlyfreelibrary.org
X-WR-CALDESC:Events for 
REFRESH-INTERVAL;VALUE=DURATION:PT1H
X-Robots-Tag:noindex
X-PUBLISHED-TTL:PT1H
BEGIN:VTIMEZONE
TZID:America/New_York
BEGIN:DAYLIGHT
TZOFFSETFROM:-0500
TZOFFSETTO:-0400
TZNAME:EDT
DTSTART:20250309T070000
END:DAYLIGHT
BEGIN:STANDARD
TZOFFSETFROM:-0400
TZOFFSETTO:-0500
TZNAME:EST
DTSTART:20251102T060000
END:STANDARD
BEGIN:DAYLIGHT
TZOFFSETFROM:-0500
TZOFFSETTO:-0400
TZNAME:EDT
DTSTART:20260308T070000
END:DAYLIGHT
BEGIN:STANDARD
TZOFFSETFROM:-0400
TZOFFSETTO:-0500
TZNAME:EST
DTSTART:20261101T060000
END:STANDARD
BEGIN:DAYLIGHT
TZOFFSETFROM:-0500
TZOFFSETTO:-0400
TZNAME:EDT
DTSTART:20270314T070000
END:DAYLIGHT
BEGIN:STANDARD
TZOFFSETFROM:-0400
TZOFFSETTO:-0500
TZNAME:EST
DTSTART:20271107T060000
END:STANDARD
END:VTIMEZONE
BEGIN:VEVENT
DTSTART;TZID=America/New_York:20260424T103000
DTEND;TZID=America/New_York:20260424T123000
DTSTAMP:20260425T124411
CREATED:20260422T161144Z
LAST-MODIFIED:20260422T161144Z
UID:3295-1777026600-1777033800@waverlyfreelibrary.org
SUMMARY:Adult Art Club - Honey Bees - Registration Required
DESCRIPTION:Join Jae for a beginner-friendly\, follow-along acrylic paint class! Registration is required for this event to ensure we have enough supplies. To register\, email Jae at jgorski@waverlyfreelibrary.org or call the library at 607-565-9341
URL:https://waverlyfreelibrary.org/event/adult-art-club-honey-bees-registration-required/
LOCATION:Waverly Free Library\, 18 Elizabeth Street\, Waverly\, NY\, 14892\, United States
END:VEVENT
BEGIN:VEVENT
DTSTART;TZID=America/New_York:20260424T133000
DTEND;TZID=America/New_York:20260424T143000
DTSTAMP:20260425T124411
CREATED:20260422T161328Z
LAST-MODIFIED:20260422T161328Z
UID:3297-1777037400-1777041000@waverlyfreelibrary.org
SUMMARY:Kids STEAM - Pond Life
DESCRIPTION:Join Jae for Kids STEAM Club to learn about Pond Life! Each class will feature different activities. To register\, email Jae at jgorski@waverlyfreelibrary.org or call the library at 607-565-9341.\nJae is PA-certified in Elementary Education K-6 and Art Education Pre-K – 12.
URL:https://waverlyfreelibrary.org/event/kids-steam-pond-life/
LOCATION:Waverly Free Library\, 18 Elizabeth Street\, Waverly\, NY\, 14892\, United States
END:VEVENT
END:VCALENDAR