BEGIN:VCALENDAR
VERSION:2.0
PRODID:-// - ECPv6.15.17.1//NONSGML v1.0//EN
CALSCALE:GREGORIAN
METHOD:PUBLISH
X-ORIGINAL-URL:https://waverlyfreelibrary.org
X-WR-CALDESC:Events for 
REFRESH-INTERVAL;VALUE=DURATION:PT1H
X-Robots-Tag:noindex
X-PUBLISHED-TTL:PT1H
BEGIN:VTIMEZONE
TZID:America/New_York
BEGIN:DAYLIGHT
TZOFFSETFROM:-0500
TZOFFSETTO:-0400
TZNAME:EDT
DTSTART:20250309T070000
END:DAYLIGHT
BEGIN:STANDARD
TZOFFSETFROM:-0400
TZOFFSETTO:-0500
TZNAME:EST
DTSTART:20251102T060000
END:STANDARD
BEGIN:DAYLIGHT
TZOFFSETFROM:-0500
TZOFFSETTO:-0400
TZNAME:EDT
DTSTART:20260308T070000
END:DAYLIGHT
BEGIN:STANDARD
TZOFFSETFROM:-0400
TZOFFSETTO:-0500
TZNAME:EST
DTSTART:20261101T060000
END:STANDARD
BEGIN:DAYLIGHT
TZOFFSETFROM:-0500
TZOFFSETTO:-0400
TZNAME:EDT
DTSTART:20270314T070000
END:DAYLIGHT
BEGIN:STANDARD
TZOFFSETFROM:-0400
TZOFFSETTO:-0500
TZNAME:EST
DTSTART:20271107T060000
END:STANDARD
END:VTIMEZONE
BEGIN:VEVENT
DTSTART;TZID=America/New_York:20260529T103000
DTEND;TZID=America/New_York:20260529T123000
DTSTAMP:20260425T223204
CREATED:20260424T163612Z
LAST-MODIFIED:20260424T163612Z
UID:3357-1780050600-1780057800@waverlyfreelibrary.org
SUMMARY:Adult Art Club - Fairies
DESCRIPTION:Join Jae to learn how to paint your own fairy! This is an acrylic painting class designed for beginners. Jae will walk students through a painting step-by-step\, including drawing\, brushstrokes\, color mixing\, etc. The designs are NOT drawn on for students\, as this is a skill that is taught during the class. \nRegistration is highly recommended to ensure we have enough space and supplies.
URL:https://waverlyfreelibrary.org/event/adult-art-club-fairies/
LOCATION:Waverly Free Library\, 18 Elizabeth Street\, Waverly\, NY\, 14892\, United States
END:VEVENT
BEGIN:VEVENT
DTSTART;TZID=America/New_York:20260529T133000
DTEND;TZID=America/New_York:20260529T143000
DTSTAMP:20260425T223204
CREATED:20260424T163739Z
LAST-MODIFIED:20260424T182404Z
UID:3359-1780061400-1780065000@waverlyfreelibrary.org
SUMMARY:Kids STEAM: Life Underground - Ants
DESCRIPTION:Join Jae for Kids STEAM Club to learn about Life Underground – Ants! Each class will feature different activities. To register\, email Jae at jgorski@waverlyfreelibrary.org or call the library at 607-565-9341.\nJae is PA-certified in Elementary Education K-6 and Art Education Pre-K – 12.
URL:https://waverlyfreelibrary.org/event/kids-steam-life-underground-ants/
LOCATION:Waverly Free Library\, 18 Elizabeth Street\, Waverly\, NY\, 14892\, United States
END:VEVENT
END:VCALENDAR