BEGIN:VCALENDAR
VERSION:2.0
PRODID:-// - ECPv6.15.17.1//NONSGML v1.0//EN
CALSCALE:GREGORIAN
METHOD:PUBLISH
X-ORIGINAL-URL:https://waverlyfreelibrary.org
X-WR-CALDESC:Events for 
REFRESH-INTERVAL;VALUE=DURATION:PT1H
X-Robots-Tag:noindex
X-PUBLISHED-TTL:PT1H
BEGIN:VTIMEZONE
TZID:America/New_York
BEGIN:DAYLIGHT
TZOFFSETFROM:-0500
TZOFFSETTO:-0400
TZNAME:EDT
DTSTART:20250309T070000
END:DAYLIGHT
BEGIN:STANDARD
TZOFFSETFROM:-0400
TZOFFSETTO:-0500
TZNAME:EST
DTSTART:20251102T060000
END:STANDARD
BEGIN:DAYLIGHT
TZOFFSETFROM:-0500
TZOFFSETTO:-0400
TZNAME:EDT
DTSTART:20260308T070000
END:DAYLIGHT
BEGIN:STANDARD
TZOFFSETFROM:-0400
TZOFFSETTO:-0500
TZNAME:EST
DTSTART:20261101T060000
END:STANDARD
BEGIN:DAYLIGHT
TZOFFSETFROM:-0500
TZOFFSETTO:-0400
TZNAME:EDT
DTSTART:20270314T070000
END:DAYLIGHT
BEGIN:STANDARD
TZOFFSETFROM:-0400
TZOFFSETTO:-0500
TZNAME:EST
DTSTART:20271107T060000
END:STANDARD
END:VTIMEZONE
BEGIN:VEVENT
DTSTART;TZID=America/New_York:20260428T170000
DTEND;TZID=America/New_York:20260428T190000
DTSTAMP:20260422T184054
CREATED:20260422T171643Z
LAST-MODIFIED:20260422T171643Z
UID:3303-1777395600-1777402800@waverlyfreelibrary.org
SUMMARY:Art Show Opening Reception "Peace"
DESCRIPTION:Join us for a first look at the April/May Art Show: PEACE! Connect with local artists to learn about their artworks and inspirations. Enjoy snacks and grab your own peace pin to wear! All are welcome!
URL:https://waverlyfreelibrary.org/event/art-show-opening-reception-peace/
LOCATION:Waverly Free Library\, 18 Elizabeth Street\, Waverly\, NY\, 14892\, United States
END:VEVENT
BEGIN:VEVENT
DTSTART;TZID=America/New_York:20260430T103000
DTEND;TZID=America/New_York:20260430T113000
DTSTAMP:20260422T184054
CREATED:20260422T171745Z
LAST-MODIFIED:20260422T171745Z
UID:3305-1777545000-1777548600@waverlyfreelibrary.org
SUMMARY:Storytime - Bugs and Snails
DESCRIPTION:Join us for a craft\, stories\, and library fun! This week Ms. Meaghann will read stories about Bugs and Snails and Ms. Jae will sing and dance with scarves with us!
URL:https://waverlyfreelibrary.org/event/storytime-bugs-and-snails/
LOCATION:Waverly Free Library\, 18 Elizabeth Street\, Waverly\, NY\, 14892\, United States
END:VEVENT
BEGIN:VEVENT
DTSTART;TZID=America/New_York:20260501T133000
DTEND;TZID=America/New_York:20260501T143000
DTSTAMP:20260422T184054
CREATED:20260422T172633Z
LAST-MODIFIED:20260422T172633Z
UID:3307-1777642200-1777645800@waverlyfreelibrary.org
SUMMARY:Kids STEAM - The Moon
DESCRIPTION:Join Jae for Kids STEAM Club to learn about The Moon! Each class will feature different activities. To register\, email Jae at jgorski@waverlyfreelibrary.org or call the library at 607-565-9341.\nJae is PA-certified in Elementary Education K-6 and Art Education Pre-K – 12.
URL:https://waverlyfreelibrary.org/event/kids-steam-the-moon/
LOCATION:Waverly Free Library\, 18 Elizabeth Street\, Waverly\, NY\, 14892\, United States
END:VEVENT
BEGIN:VEVENT
DTSTART;TZID=America/New_York:20260505T103000
DTEND;TZID=America/New_York:20260505T113000
DTSTAMP:20260422T184054
CREATED:20260422T172800Z
LAST-MODIFIED:20260422T172800Z
UID:3309-1777977000-1777980600@waverlyfreelibrary.org
SUMMARY:Family Resource Center - Crafts and Cooking with Joan
DESCRIPTION:Family Crafts and Cooking with Joan from the Tioga County Family Resource Center! New Families are always welcome!
URL:https://waverlyfreelibrary.org/event/family-resource-center-crafts-and-cooking-with-joan/
LOCATION:Waverly Free Library\, 18 Elizabeth Street\, Waverly\, NY\, 14892\, United States
END:VEVENT
BEGIN:VEVENT
DTSTART;TZID=America/New_York:20260505T130000
DTEND;TZID=America/New_York:20260505T160000
DTSTAMP:20260422T184054
CREATED:20260422T172843Z
LAST-MODIFIED:20260422T172843Z
UID:3311-1777986000-1777996800@waverlyfreelibrary.org
SUMMARY:Chess Club
DESCRIPTION:Come practice your skills and meet new players! All are welcome!
URL:https://waverlyfreelibrary.org/event/chess-club-114/
LOCATION:Waverly Free Library\, 18 Elizabeth Street\, Waverly\, NY\, 14892\, United States
END:VEVENT
BEGIN:VEVENT
DTSTART;TZID=America/New_York:20260505T170000
DTEND;TZID=America/New_York:20260505T190000
DTSTAMP:20260422T184054
CREATED:20260422T173437Z
LAST-MODIFIED:20260422T173437Z
UID:3313-1778000400-1778007600@waverlyfreelibrary.org
SUMMARY:Teen/Adult Art Club - Mixed Media Collage - Part 1
DESCRIPTION:*Registration Required* \nJoin Jae for a mixed media collage project! Please call the library to register at 570-565-9341 or email jgorski@waverlyfreelibrary.org. All are welcome!
URL:https://waverlyfreelibrary.org/event/teen-adult-art-club-mixed-media-collage-part-1/
LOCATION:Waverly Free Library\, 18 Elizabeth Street\, Waverly\, NY\, 14892\, United States
END:VEVENT
BEGIN:VEVENT
DTSTART;TZID=America/New_York:20260506T130000
DTEND;TZID=America/New_York:20260506T150000
DTSTAMP:20260422T184054
CREATED:20260422T173530Z
LAST-MODIFIED:20260422T173530Z
UID:3315-1778072400-1778079600@waverlyfreelibrary.org
SUMMARY:Adult Social - Coffee and Craft
DESCRIPTION:Come down to the library and craft with friends! Bring your own craft and a drink and chat!
URL:https://waverlyfreelibrary.org/event/adult-social-coffee-and-craft/
LOCATION:Waverly Free Library\, 18 Elizabeth Street\, Waverly\, NY\, 14892\, United States
END:VEVENT
BEGIN:VEVENT
DTSTART;TZID=America/New_York:20260507T103000
DTEND;TZID=America/New_York:20260507T113000
DTSTAMP:20260422T184054
CREATED:20260422T173727Z
LAST-MODIFIED:20260422T173727Z
UID:3317-1778149800-1778153400@waverlyfreelibrary.org
SUMMARY:Storytime - Asian American & Pacific Islander Month
DESCRIPTION:Join us for a craft\, stories\, and library fun! This week Ms. Meaghann will read stories about Asian Americans and Pacific Islanders and Ms. Jae will sing and dance with scarves with us!
URL:https://waverlyfreelibrary.org/event/storytime-asian-american-pacific-islander-month/
LOCATION:Waverly Free Library\, 18 Elizabeth Street\, Waverly\, NY\, 14892\, United States
END:VEVENT
BEGIN:VEVENT
DTSTART;TZID=America/New_York:20260508T133000
DTEND;TZID=America/New_York:20260508T143000
DTSTAMP:20260422T184054
CREATED:20260422T173908Z
LAST-MODIFIED:20260422T173908Z
UID:3319-1778247000-1778250600@waverlyfreelibrary.org
SUMMARY:Kids STEAM - Stars
DESCRIPTION:Join Jae for Kids STEAM Club to learn about Stars! Each class will feature different activities. To register\, email Jae at jgorski@waverlyfreelibrary.org or call the library at 607-565-9341.\nJae is PA-certified in Elementary Education K-6 and Art Education Pre-K – 12.
URL:https://waverlyfreelibrary.org/event/kids-steam-stars/
LOCATION:Waverly Free Library\, 18 Elizabeth Street\, Waverly\, NY\, 14892\, United States
END:VEVENT
BEGIN:VEVENT
DTSTART;TZID=America/New_York:20260509T110000
DTEND;TZID=America/New_York:20260509T114500
DTSTAMP:20260422T184054
CREATED:20260422T195638Z
LAST-MODIFIED:20260422T195638Z
UID:3321-1778324400-1778327100@waverlyfreelibrary.org
SUMMARY:Pre-K STEAM & Music - The Moon
DESCRIPTION:Join Jae for a fun morning of art\, music\, and learning about The Moon!
URL:https://waverlyfreelibrary.org/event/pre-k-steam-music-the-moon/
LOCATION:Waverly Free Library\, 18 Elizabeth Street\, Waverly\, NY\, 14892\, United States
END:VEVENT
BEGIN:VEVENT
DTSTART;TZID=America/New_York:20260509T120000
DTEND;TZID=America/New_York:20260509T130000
DTSTAMP:20260422T184054
CREATED:20260422T195741Z
LAST-MODIFIED:20260422T195741Z
UID:3323-1778328000-1778331600@waverlyfreelibrary.org
SUMMARY:Kids STEAM and Music
DESCRIPTION:Join Jae for Kids STEAM Club to learn about The Moon! Each class will feature different activities. To register\, email Jae at jgorski@waverlyfreelibrary.org or call the library at 607-565-9341.\nJae is PA-certified in Elementary Education K-6 and Art Education Pre-K – 12.
URL:https://waverlyfreelibrary.org/event/kids-steam-and-music/
LOCATION:Waverly Free Library\, 18 Elizabeth Street\, Waverly\, NY\, 14892\, United States
END:VEVENT
END:VCALENDAR