BEGIN:VCALENDAR
VERSION:2.0
PRODID:-// - ECPv6.15.17.1//NONSGML v1.0//EN
CALSCALE:GREGORIAN
METHOD:PUBLISH
X-ORIGINAL-URL:https://waverlyfreelibrary.org
X-WR-CALDESC:Events for 
REFRESH-INTERVAL;VALUE=DURATION:PT1H
X-Robots-Tag:noindex
X-PUBLISHED-TTL:PT1H
BEGIN:VTIMEZONE
TZID:America/New_York
BEGIN:DAYLIGHT
TZOFFSETFROM:-0500
TZOFFSETTO:-0400
TZNAME:EDT
DTSTART:20250309T070000
END:DAYLIGHT
BEGIN:STANDARD
TZOFFSETFROM:-0400
TZOFFSETTO:-0500
TZNAME:EST
DTSTART:20251102T060000
END:STANDARD
BEGIN:DAYLIGHT
TZOFFSETFROM:-0500
TZOFFSETTO:-0400
TZNAME:EDT
DTSTART:20260308T070000
END:DAYLIGHT
BEGIN:STANDARD
TZOFFSETFROM:-0400
TZOFFSETTO:-0500
TZNAME:EST
DTSTART:20261101T060000
END:STANDARD
BEGIN:DAYLIGHT
TZOFFSETFROM:-0500
TZOFFSETTO:-0400
TZNAME:EDT
DTSTART:20270314T070000
END:DAYLIGHT
BEGIN:STANDARD
TZOFFSETFROM:-0400
TZOFFSETTO:-0500
TZNAME:EST
DTSTART:20271107T060000
END:STANDARD
END:VTIMEZONE
BEGIN:VEVENT
DTSTART;TZID=America/New_York:20260127T130000
DTEND;TZID=America/New_York:20260127T160000
DTSTAMP:20260422T125024
CREATED:20251217T153735Z
LAST-MODIFIED:20251217T153735Z
UID:3237-1769518800-1769529600@waverlyfreelibrary.org
SUMMARY:Chess Club
DESCRIPTION:Looking to test your chess skills? Stop by the Library between 1pm and 4pm each Tuesday and join a game!
URL:https://waverlyfreelibrary.org/event/chess-club-111/
LOCATION:Waverly Free Library\, 18 Elizabeth Street\, Waverly\, NY\, 14892\, United States
END:VEVENT
BEGIN:VEVENT
DTSTART;TZID=America/New_York:20260127T160000
DTEND;TZID=America/New_York:20260127T180000
DTSTAMP:20260422T125024
CREATED:20251217T155027Z
LAST-MODIFIED:20251217T155027Z
UID:3249-1769529600-1769536800@waverlyfreelibrary.org
SUMMARY:Free Kids Art Club - Winter Glow Party - Registration Required
DESCRIPTION:Join Jae for Kids Art Club – Winter Glow Party on Tuesday\, January 27\, 4pm – 6pm.\nThere will be a few projects available for kids to complete – all of which will glow under UV lights. Glow paint is acrylic\, and we recommend wearing art clothes or aprons.\nPlease Note: Registration is required for this event to ensure we have enough seats and supplies! To register\, call the library at 607-565-9341.
URL:https://waverlyfreelibrary.org/event/free-kids-art-club-winter-glow-party-registration-required/
LOCATION:Waverly Free Library\, 18 Elizabeth Street\, Waverly\, NY\, 14892\, United States
END:VEVENT
BEGIN:VEVENT
DTSTART;TZID=America/New_York:20260422T130000
DTEND;TZID=America/New_York:20260422T150000
DTSTAMP:20260422T125024
CREATED:20260422T160804Z
LAST-MODIFIED:20260422T160804Z
UID:3291-1776862800-1776870000@waverlyfreelibrary.org
SUMMARY:Adult Social: Bring your own coffee and craft!
DESCRIPTION:Come down to the library and craft with friends! Bring your own craft and a drink and chat!
URL:https://waverlyfreelibrary.org/event/adult-social-bring-your-own-coffee-and-craft/
LOCATION:Waverly Free Library\, 18 Elizabeth Street\, Waverly\, NY\, 14892\, United States
END:VEVENT
BEGIN:VEVENT
DTSTART;TZID=America/New_York:20260423T103000
DTEND;TZID=America/New_York:20260423T113000
DTSTAMP:20260422T125024
CREATED:20260422T161012Z
LAST-MODIFIED:20260422T161012Z
UID:3293-1776940200-1776943800@waverlyfreelibrary.org
SUMMARY:Storytime - Earth Day
DESCRIPTION:Join us for a craft\, stories\, and library fun! This week Ms. Meaghann will read stories about Earth Day and Ms. Jae will sing and dance with scarves with us!
URL:https://waverlyfreelibrary.org/event/storytime-earth-day/
LOCATION:Waverly Free Library\, 18 Elizabeth Street\, Waverly\, NY\, 14892\, United States
END:VEVENT
BEGIN:VEVENT
DTSTART;TZID=America/New_York:20260424T103000
DTEND;TZID=America/New_York:20260424T123000
DTSTAMP:20260422T125024
CREATED:20260422T161144Z
LAST-MODIFIED:20260422T161144Z
UID:3295-1777026600-1777033800@waverlyfreelibrary.org
SUMMARY:Adult Art Club - Honey Bees - Registration Required
DESCRIPTION:Join Jae for a beginner-friendly\, follow-along acrylic paint class! Registration is required for this event to ensure we have enough supplies. To register\, email Jae at jgorski@waverlyfreelibrary.org or call the library at 607-565-9341
URL:https://waverlyfreelibrary.org/event/adult-art-club-honey-bees-registration-required/
LOCATION:Waverly Free Library\, 18 Elizabeth Street\, Waverly\, NY\, 14892\, United States
END:VEVENT
BEGIN:VEVENT
DTSTART;TZID=America/New_York:20260424T133000
DTEND;TZID=America/New_York:20260424T143000
DTSTAMP:20260422T125024
CREATED:20260422T161328Z
LAST-MODIFIED:20260422T161328Z
UID:3297-1777037400-1777041000@waverlyfreelibrary.org
SUMMARY:Kids STEAM - Pond Life
DESCRIPTION:Join Jae for Kids STEAM Club to learn about Pond Life! Each class will feature different activities. To register\, email Jae at jgorski@waverlyfreelibrary.org or call the library at 607-565-9341.\nJae is PA-certified in Elementary Education K-6 and Art Education Pre-K – 12.
URL:https://waverlyfreelibrary.org/event/kids-steam-pond-life/
LOCATION:Waverly Free Library\, 18 Elizabeth Street\, Waverly\, NY\, 14892\, United States
END:VEVENT
BEGIN:VEVENT
DTSTART;TZID=America/New_York:20260428T103000
DTEND;TZID=America/New_York:20260428T113000
DTSTAMP:20260422T125024
CREATED:20260422T161702Z
LAST-MODIFIED:20260422T161702Z
UID:3299-1777372200-1777375800@waverlyfreelibrary.org
SUMMARY:Family Resource Center - Cooking with Joan
DESCRIPTION:Family Crafts and Cooking with Joan from the Tioga County Family Resource Center! New Families are always welcome!
URL:https://waverlyfreelibrary.org/event/family-resource-center-cooking-with-joan/
LOCATION:Waverly Free Library\, 18 Elizabeth Street\, Waverly\, NY\, 14892\, United States
END:VEVENT
END:VCALENDAR